BEGIN:VCALENDAR
VERSION:2.0
PRODID:-//ChurchDev//Events//EN
CALSCALE:GREGORIAN
METHOD:PUBLISH
BEGIN:VEVENT
UID:3328-20241012@www.pondforkbaptistchurch.org
SUMMARY:Car Show
DTSTART:20241012T140000Z
DTEND:20241012T180000Z
DESCRIPTION:https://www.pondforkbaptistchurch.org/events/car-show/
URL:https://www.pondforkbaptistchurch.org/events/car-show/
DTSTAMP:20260419T131228Z
END:VEVENT
END:VCALENDAR
